BEGIN:VCALENDAR
VERSION:2.0
PRODID:-//wp-events-plugin.com//5.99912//EN
TZID:Europe/Berlin
X-WR-TIMEZONE:Europe/Berlin
BEGIN:VEVENT
UID:0-179@gailenkirchen.albverein.eu
DTSTART;TZID=Europe/Berlin;VALUE=DATE:20261010
DTEND;TZID=Europe/Berlin;VALUE=DATE:20261011
DTSTAMP:20260208T143403Z
URL:https://gailenkirchen.albverein.eu/events/besenausfahrt/
SUMMARY:Besenausfahrt
DESCRIPTION:Besenausfahrt mit evtl. Wanderung in Weinsberg\n\nWF Ralf Deini
 nger (Tel. 07973 1698151) und Manfred Schaaf (Tel. 0791 8046)
END:VEVENT
BEGIN:VTIMEZONE
TZID:Europe/Berlin
X-LIC-LOCATION:Europe/Berlin
BEGIN:DAYLIGHT
DTSTART:20260329T030000
TZOFFSETFROM:+0100
TZOFFSETTO:+0200
TZNAME:CEST
END:DAYLIGHT
END:VTIMEZONE
END:VCALENDAR