BEGIN:VCALENDAR
VERSION:2.0
PRODID:-//wp-events-plugin.com//5.99912//EN
TZID:Europe/Berlin
X-WR-TIMEZONE:Europe/Berlin
BEGIN:VEVENT
UID:0-175@gailenkirchen.albverein.eu
DTSTART;TZID=Europe/Berlin:20260718T170000
DTEND;TZID=Europe/Berlin:20260718T210000
DTSTAMP:20251125T161224Z
URL:https://gailenkirchen.albverein.eu/events/seniorenabschluss/
SUMMARY:Hüttenabend
DESCRIPTION:Hüttenabend mit Grillen\nInfo Bernd Roll - Tel. 0791 89567
LOCATION:AV-Hütte\, Frühlingsberg\, Gailenkirchen\, 74523\, Deutschland
GEO:49.1443439;9.684447599999999
X-APPLE-STRUCTURED-LOCATION;VALUE=URI;X-ADDRESS=Frühlingsberg\, Gailenkirc
 hen\, 74523\, Deutschland;X-APPLE-RADIUS=100;X-TITLE=AV-Hütte:geo:49.1443
 439,9.684447599999999
END:VEVENT
BEGIN:VTIMEZONE
TZID:Europe/Berlin
X-LIC-LOCATION:Europe/Berlin
BEGIN:DAYLIGHT
DTSTART:20260329T030000
TZOFFSETFROM:+0100
TZOFFSETTO:+0200
TZNAME:CEST
END:DAYLIGHT
END:VTIMEZONE
END:VCALENDAR