BEGIN:VCALENDAR
VERSION:2.0
PRODID:-//wp-events-plugin.com//5.99912//EN
TZID:Europe/Berlin
X-WR-TIMEZONE:Europe/Berlin
BEGIN:VEVENT
UID:0-170@gailenkirchen.albverein.eu
DTSTART;TZID=Europe/Berlin:20261111T140000
DTEND;TZID=Europe/Berlin:20261111T180000
DTSTAMP:20251125T155641Z
URL:https://gailenkirchen.albverein.eu/events/seniorenwanderung-18/
SUMMARY:Seniorenwanderung
DESCRIPTION:Seniorenwanderung\n\nWF Brigitte Deininger / Rose Krieg - Tel. 
 0791 59262\n 
LOCATION:Sportplatz Gailenkirchen\, In den Mahdwiesen\, Gailenkirchen\, 745
 23\, Deutschland
GEO:49.14299591676932;9.688474148657178
X-APPLE-STRUCTURED-LOCATION;VALUE=URI;X-ADDRESS=In den Mahdwiesen\, Gailenk
 irchen\, 74523\, Deutschland;X-APPLE-RADIUS=100;X-TITLE=Sportplatz Gailenk
 irchen:geo:49.14299591676932,9.688474148657178
END:VEVENT
BEGIN:VTIMEZONE
TZID:Europe/Berlin
X-LIC-LOCATION:Europe/Berlin
BEGIN:STANDARD
DTSTART:20261025T020000
TZOFFSETFROM:+0200
TZOFFSETTO:+0100
TZNAME:CET
END:STANDARD
END:VTIMEZONE
END:VCALENDAR