BEGIN:VCALENDAR
VERSION:2.0
PRODID:-//wp-events-plugin.com//5.99912//EN
TZID:Europe/Berlin
X-WR-TIMEZONE:Europe/Berlin
BEGIN:VEVENT
UID:0-172@gailenkirchen.albverein.eu
DTSTART;TZID=Europe/Berlin:20261216T140000
DTEND;TZID=Europe/Berlin:20261216T180000
DTSTAMP:20251125T162024Z
URL:https://gailenkirchen.albverein.eu/events/seniorenwanderung-19/
SUMMARY:Seniorenabschluss
DESCRIPTION:Der Albverein Gailenkirchen lädt die Albvereinssenioren zum Ja
 hresabschluss in die AV-Hütte ein. Beginn ist ab 14.00 Uhr. \nWeitere Inf
 o bei Rose Krieg\, Tel. 0791 59262.\n 
LOCATION:AV-Hütte\, Frühlingsberg\, Gailenkirchen\, 74523\, Deutschland
GEO:49.1443439;9.684447599999999
X-APPLE-STRUCTURED-LOCATION;VALUE=URI;X-ADDRESS=Frühlingsberg\, Gailenkirc
 hen\, 74523\, Deutschland;X-APPLE-RADIUS=100;X-TITLE=AV-Hütte:geo:49.1443
 439,9.684447599999999
END:VEVENT
BEGIN:VTIMEZONE
TZID:Europe/Berlin
X-LIC-LOCATION:Europe/Berlin
BEGIN:STANDARD
DTSTART:20261025T020000
TZOFFSETFROM:+0200
TZOFFSETTO:+0100
TZNAME:CET
END:STANDARD
END:VTIMEZONE
END:VCALENDAR