BEGIN:VCALENDAR
VERSION:2.0
PRODID:-//wp-events-plugin.com//5.99912//EN
TZID:Europe/Berlin
X-WR-TIMEZONE:Europe/Berlin
BEGIN:VEVENT
UID:0-192@gailenkirchen.albverein.eu
DTSTART;TZID=Europe/Berlin:20260826T180000
DTEND;TZID=Europe/Berlin:20260826T210000
DTSTAMP:20260224T170554Z
URL:https://gailenkirchen.albverein.eu/events/singgruppe/
SUMMARY:Singgruppe
DESCRIPTION:Albverein singt\n\nDie Singgruppe des Schwäbischen Albvereins 
 lädt alle singbegeisterte Mitglieder und auch Nichtmitglieder ein und tri
 fft sich am Mittwoch\, den 26.08.2026 um 18:00 Uhr in der Albvereinshütt
 e der Ortsgruppe Gailenkirchen. Haben Sie Freude am Singen\, dann kommen s
 ie einfach mal vorbei. Die Organisatoren freuen sich über jede „Stimme
 “.\n\nInfo unter Tel. 0791 59262.
LOCATION:AV-Hütte\, Frühlingsberg\, Gailenkirchen\, 74523\, Deutschland
GEO:49.1443439;9.684447599999999
X-APPLE-STRUCTURED-LOCATION;VALUE=URI;X-ADDRESS=Frühlingsberg\, Gailenkirc
 hen\, 74523\, Deutschland;X-APPLE-RADIUS=100;X-TITLE=AV-Hütte:geo:49.1443
 439,9.684447599999999
END:VEVENT
BEGIN:VTIMEZONE
TZID:Europe/Berlin
X-LIC-LOCATION:Europe/Berlin
BEGIN:DAYLIGHT
DTSTART:20260329T030000
TZOFFSETFROM:+0100
TZOFFSETTO:+0200
TZNAME:CEST
END:DAYLIGHT
END:VTIMEZONE
END:VCALENDAR