BEGIN:VCALENDAR
VERSION:2.0
PRODID:-//wp-events-plugin.com//5.99912//EN
TZID:Europe/Berlin
X-WR-TIMEZONE:Europe/Berlin
BEGIN:VEVENT
UID:0-173@gailenkirchen.albverein.eu
DTSTART;TZID=Europe/Berlin;VALUE=DATE:20261115
DTEND;TZID=Europe/Berlin;VALUE=DATE:20261116
DTSTAMP:20251125T155520Z
URL:https://gailenkirchen.albverein.eu/events/wanderung-6/
SUMMARY:Wanderung
DESCRIPTION:Wanderung - Ziel noch  offen
LOCATION:Sportplatz Gailenkirchen\, In den Mahdwiesen\, Gailenkirchen\, 745
 23\, Deutschland
GEO:49.14299591676932;9.688474148657178
X-APPLE-STRUCTURED-LOCATION;VALUE=URI;X-ADDRESS=In den Mahdwiesen\, Gailenk
 irchen\, 74523\, Deutschland;X-APPLE-RADIUS=100;X-TITLE=Sportplatz Gailenk
 irchen:geo:49.14299591676932,9.688474148657178
END:VEVENT
BEGIN:VTIMEZONE
TZID:Europe/Berlin
X-LIC-LOCATION:Europe/Berlin
BEGIN:STANDARD
DTSTART:20261025T020000
TZOFFSETFROM:+0200
TZOFFSETTO:+0100
TZNAME:CET
END:STANDARD
END:VTIMEZONE
END:VCALENDAR