BEGIN:VCALENDAR
VERSION:2.0
PRODID:-//wp-events-plugin.com//5.99912//EN
TZID:Europe/Berlin
X-WR-TIMEZONE:Europe/Berlin
BEGIN:VEVENT
UID:0-188@gailenkirchen.albverein.eu
DTSTART;TZID=Europe/Berlin;VALUE=DATE:20260920
DTEND;TZID=Europe/Berlin;VALUE=DATE:20260921
DTSTAMP:20251125T161654Z
URL:https://gailenkirchen.albverein.eu/events/wanderung-7/
SUMMARY:Wanderung
DESCRIPTION:Wanderung bei Gleichen\nTreffpunkt Gaildorf um 13:30 Uhr. \n\nW
 F Bernhard Deiger (Tel. 01578 7912495) und Sabine Steibach (Tel. 0178 6064
 852)\n\n&nbsp\;
LOCATION:Sportplatz Gailenkirchen\, In den Mahdwiesen\, Gailenkirchen\, 745
 23\, Deutschland
GEO:49.14299591676932;9.688474148657178
X-APPLE-STRUCTURED-LOCATION;VALUE=URI;X-ADDRESS=In den Mahdwiesen\, Gailenk
 irchen\, 74523\, Deutschland;X-APPLE-RADIUS=100;X-TITLE=Sportplatz Gailenk
 irchen:geo:49.14299591676932,9.688474148657178
END:VEVENT
BEGIN:VTIMEZONE
TZID:Europe/Berlin
X-LIC-LOCATION:Europe/Berlin
BEGIN:DAYLIGHT
DTSTART:20260329T030000
TZOFFSETFROM:+0100
TZOFFSETTO:+0200
TZNAME:CEST
END:DAYLIGHT
END:VTIMEZONE
END:VCALENDAR