BEGIN:VCALENDAR
VERSION:2.0
PRODID:-//wp-events-plugin.com//5.99912//EN
TZID:Europe/Berlin
X-WR-TIMEZONE:Europe/Berlin
BEGIN:VEVENT
UID:0-181@gailenkirchen.albverein.eu
DTSTART;TZID=Europe/Berlin;VALUE=DATE:20260517
DTEND;TZID=Europe/Berlin;VALUE=DATE:20260518
DTSTAMP:20260323T153236Z
URL:https://gailenkirchen.albverein.eu/events/wanderung-8/
SUMMARY:Wanderung
DESCRIPTION:Wanderung - Jagstaue - Burgruine Leofels\nWF Horst und Karin St
 adel - Tel. 0151 55166383
LOCATION:Sportplatz Gailenkirchen\, In den Mahdwiesen\, Gailenkirchen\, 745
 23\, Deutschland
GEO:49.14299591676932;9.688474148657178
X-APPLE-STRUCTURED-LOCATION;VALUE=URI;X-ADDRESS=In den Mahdwiesen\, Gailenk
 irchen\, 74523\, Deutschland;X-APPLE-RADIUS=100;X-TITLE=Sportplatz Gailenk
 irchen:geo:49.14299591676932,9.688474148657178
END:VEVENT
BEGIN:VTIMEZONE
TZID:Europe/Berlin
X-LIC-LOCATION:Europe/Berlin
BEGIN:DAYLIGHT
DTSTART:20260329T030000
TZOFFSETFROM:+0100
TZOFFSETTO:+0200
TZNAME:CEST
END:DAYLIGHT
END:VTIMEZONE
END:VCALENDAR