BEGIN:VCALENDAR
VERSION:2.0
PRODID:-//wp-events-plugin.com//5.99912//EN
TZID:Europe/Berlin
X-WR-TIMEZONE:Europe/Berlin
BEGIN:VEVENT
UID:0-182@gailenkirchen.albverein.eu
DTSTART;TZID=Europe/Berlin:20261121T140000
DTEND;TZID=Europe/Berlin:20261121T180000
DTSTAMP:20260208T143426Z
URL:https://gailenkirchen.albverein.eu/events/wanderung-9/
SUMMARY:Adventsfeier
DESCRIPTION:Vorweihnachtliches Beisammensein in der Dorfscheune\nInfo Rose 
 Krieg - Tel. 0791 59262\n
LOCATION:Dorfscheune - Ehem. Feuerwehrmagazin\, Beilsteinstr. 1\, Gailenkir
 chen\, 74523\, Deutschland
GEO:49.1466149;9.691139900000053
X-APPLE-STRUCTURED-LOCATION;VALUE=URI;X-ADDRESS=Beilsteinstr. 1\, Gailenkir
 chen\, 74523\, Deutschland;X-APPLE-RADIUS=100;X-TITLE=Dorfscheune - Ehem. 
 Feuerwehrmagazin:geo:49.1466149,9.691139900000053
END:VEVENT
BEGIN:VTIMEZONE
TZID:Europe/Berlin
X-LIC-LOCATION:Europe/Berlin
BEGIN:STANDARD
DTSTART:20261025T020000
TZOFFSETFROM:+0200
TZOFFSETTO:+0100
TZNAME:CET
END:STANDARD
END:VTIMEZONE
END:VCALENDAR