BEGIN:VCALENDAR
VERSION:2.0
PRODID:-//wp-events-plugin.com//5.99912//EN
TZID:Europe/Berlin
X-WR-TIMEZONE:Europe/Berlin
BEGIN:VEVENT
UID:0-169@gailenkirchen.albverein.eu
DTSTART;TZID=Europe/Berlin:20261003T100000
DTEND;TZID=Europe/Berlin:20261003T150000
DTSTAMP:20251125T161751Z
URL:https://gailenkirchen.albverein.eu/events/weisswurstfruehstueck-4/
SUMMARY:Weißwurstfrühstück mit Wanderplanbesprechung
DESCRIPTION:Weißwurstfrühstück in AV-Hütte – Beginn 10.00 Uhr - gleic
 hzeitig ist Wanderplanbesprechung. \nmit Anmeldung \nBernd Roll\, Tel. 07
 91 89567.\n
LOCATION:Albvereinshütte\, Asbach 1\, Schwäbisch Hall\, Baden Württember
 g\, 74523\, Hohenlohe\, Deutschland
GEO:49.145693;9.681783
X-APPLE-STRUCTURED-LOCATION;VALUE=URI;X-ADDRESS=Asbach 1\, Schwäbisch Hall
 \, Baden Württemberg\, 74523\, Hohenlohe\, Deutschland;X-APPLE-RADIUS=100
 ;X-TITLE=Albvereinshütte:geo:49.145693,9.681783
END:VEVENT
BEGIN:VTIMEZONE
TZID:Europe/Berlin
X-LIC-LOCATION:Europe/Berlin
BEGIN:DAYLIGHT
DTSTART:20260329T030000
TZOFFSETFROM:+0100
TZOFFSETTO:+0200
TZNAME:CEST
END:DAYLIGHT
END:VTIMEZONE
END:VCALENDAR